BEGIN:VCALENDAR
PRODID:-//BuyMyPlace//EN
VERSION:1.0
BEGIN:VEVENT
SUMMARY;LANGUAGE=en-us:26 Berthon Crescent, Hillside, VIC
CLASS:PUBLIC
CREATED:20260420T165638Z
DESCRIPTION:26 Berthon Crescent, Hillside, VIC
DTSTART:20260422T173000
DTEND:20260422T183000
DTSTAMP:20260422T183000
SEQUENCE:0
UID:e851123b-4ac4-4fdc-a539-d1ff51f83eb0
LOCATION:26 Berthon Crescent, Hillside, VIC
END:VEVENT
END:VCALENDAR
