BEGIN:VCALENDAR
PRODID:-//BuyMyPlace//EN
VERSION:1.0
BEGIN:VEVENT
SUMMARY;LANGUAGE=en-us:26 Berthon Crescent, Hillside, VIC
CLASS:PUBLIC
CREATED:20260420T165638Z
DESCRIPTION:26 Berthon Crescent, Hillside, VIC
DTSTART:20260425T090000
DTEND:20260425T100000
DTSTAMP:20260425T100000
SEQUENCE:0
UID:7df8d1a0-2a21-4941-89c1-030dfb9680a1
LOCATION:26 Berthon Crescent, Hillside, VIC
END:VEVENT
END:VCALENDAR
