BEGIN:VCALENDAR
PRODID:-//BuyMyPlace//EN
VERSION:1.0
BEGIN:VEVENT
SUMMARY;LANGUAGE=en-us:26 Sutton Place, Cannon Hill, QLD
CLASS:PUBLIC
CREATED:20260420T104213Z
DESCRIPTION:26 Sutton Place, Cannon Hill, QLD
DTSTART:20260422T170000
DTEND:20260422T173000
DTSTAMP:20260422T173000
SEQUENCE:0
UID:7530b343-f981-4a1e-aa1d-c14916936ab3
LOCATION:26 Sutton Place, Cannon Hill, QLD
END:VEVENT
END:VCALENDAR
