BEGIN:VCALENDAR
PRODID:-//BuyMyPlace//EN
VERSION:1.0
BEGIN:VEVENT
SUMMARY;LANGUAGE=en-us:26 Sutton Place, Cannon Hill, QLD
CLASS:PUBLIC
CREATED:20260420T104213Z
DESCRIPTION:26 Sutton Place, Cannon Hill, QLD
DTSTART:20260429T170000
DTEND:20260429T173000
DTSTAMP:20260429T173000
SEQUENCE:0
UID:0ecc4004-f484-4d53-a38f-2ef14dd83d04
LOCATION:26 Sutton Place, Cannon Hill, QLD
END:VEVENT
END:VCALENDAR
