BEGIN:VCALENDAR
PRODID:-//BuyMyPlace//EN
VERSION:1.0
BEGIN:VEVENT
SUMMARY;LANGUAGE=en-us:279A Princes Highway, Corrimal, NSW
CLASS:PUBLIC
CREATED:20260420T121904Z
DESCRIPTION:279A Princes Highway, Corrimal, NSW
DTSTART:20260423T160000
DTEND:20260423T163000
DTSTAMP:20260423T163000
SEQUENCE:0
UID:de943469-1dd0-4f66-b198-18a1d59eb99c
LOCATION:279A Princes Highway, Corrimal, NSW
END:VEVENT
END:VCALENDAR
