BEGIN:VCALENDAR
PRODID:-//BuyMyPlace//EN
VERSION:1.0
BEGIN:VEVENT
SUMMARY;LANGUAGE=en-us:48 Woodman Circuit, Wollert, VIC
CLASS:PUBLIC
CREATED:20260420T085747Z
DESCRIPTION:48 Woodman Circuit, Wollert, VIC
DTSTART:20260418T140000
DTEND:20260418T143000
DTSTAMP:20260418T143000
SEQUENCE:0
UID:8578757e-8982-4a8d-a41c-a6cb30162123
LOCATION:48 Woodman Circuit, Wollert, VIC
END:VEVENT
END:VCALENDAR
