BEGIN:VCALENDAR
PRODID:-//BuyMyPlace//EN
VERSION:1.0
BEGIN:VEVENT
SUMMARY;LANGUAGE=en-us:8 Haley Mews, Baldivis, WA
CLASS:PUBLIC
CREATED:20260423T133908Z
DESCRIPTION:8 Haley Mews, Baldivis, WA
DTSTART:20260427T130000
DTEND:20260427T140000
DTSTAMP:20260427T140000
SEQUENCE:0
UID:4825e066-98a7-4bd5-9ccf-a40d4ca76a6e
LOCATION:8 Haley Mews, Baldivis, WA
END:VEVENT
END:VCALENDAR
